BEGIN:VCALENDAR
VERSION:2.0
PRODID:-//MPR Business Solutions, LLC - ECPv6.15.20//NONSGML v1.0//EN
CALSCALE:GREGORIAN
METHOD:PUBLISH
X-WR-CALNAME:MPR Business Solutions, LLC
X-ORIGINAL-URL:https://mprbusinesssolutionsllc.com
X-WR-CALDESC:Events for MPR Business Solutions, LLC
REFRESH-INTERVAL;VALUE=DURATION:PT1H
X-Robots-Tag:noindex
X-PUBLISHED-TTL:PT1H
BEGIN:VTIMEZONE
TZID:America/New_York
BEGIN:DAYLIGHT
TZOFFSETFROM:-0500
TZOFFSETTO:-0400
TZNAME:EDT
DTSTART:20210314T070000
END:DAYLIGHT
BEGIN:STANDARD
TZOFFSETFROM:-0400
TZOFFSETTO:-0500
TZNAME:EST
DTSTART:20211107T060000
END:STANDARD
BEGIN:DAYLIGHT
TZOFFSETFROM:-0500
TZOFFSETTO:-0400
TZNAME:EDT
DTSTART:20220313T070000
END:DAYLIGHT
BEGIN:STANDARD
TZOFFSETFROM:-0400
TZOFFSETTO:-0500
TZNAME:EST
DTSTART:20221106T060000
END:STANDARD
BEGIN:DAYLIGHT
TZOFFSETFROM:-0500
TZOFFSETTO:-0400
TZNAME:EDT
DTSTART:20230312T070000
END:DAYLIGHT
BEGIN:STANDARD
TZOFFSETFROM:-0400
TZOFFSETTO:-0500
TZNAME:EST
DTSTART:20231105T060000
END:STANDARD
BEGIN:DAYLIGHT
TZOFFSETFROM:-0500
TZOFFSETTO:-0400
TZNAME:EDT
DTSTART:20240310T070000
END:DAYLIGHT
BEGIN:STANDARD
TZOFFSETFROM:-0400
TZOFFSETTO:-0500
TZNAME:EST
DTSTART:20241103T060000
END:STANDARD
END:VTIMEZONE
BEGIN:VEVENT
DTSTART;TZID=America/New_York:20230729T190000
DTEND;TZID=America/New_York:20230729T230000
DTSTAMP:20260419T100641
CREATED:20230719T000545Z
LAST-MODIFIED:20230719T001337Z
UID:16416-1690657200-1690671600@mprbusinesssolutionsllc.com
SUMMARY:Maryland Hispanic Chamber of Commerce Gala
DESCRIPTION:GALA – Carnival in July 2023 – Carnaval en Julio 2023 \nAs a member and supporter of the Hispanic business community\, I am thrilled to extend a warm invitation to the highly anticipated Hispanic Chamber of Commerce Gala\, which will be a celebration of our vibrant culture and the remarkable achievements of our community. \nDate: July 29\, 2023 \nTime: 7:00 pm \nVenue: Live! Casino & Hotel \nThe Hispanic Chamber of Commerce Gala promises to be an extraordinary evening\, bringing together esteemed professionals\, entrepreneurs\, and community leaders from various sectors. The event will provide an exceptional networking opportunity\, allowing participants to forge new connections and strengthen existing business relationships within the Hispanic business community. \nGet your tickets Now! https://www.eventbrite.com/e/mdhcc-2023-gala-carnaval-in-july-tickets-630416652177 \n  \nComo miembro y partidaria de la comunidad empresarial hispana\, me complace extender una cálida invitación a la muy esperada Gala de la Cámara de Comercio Hispana\, que será una celebración de nuestra cultura vibrante y los notables logros de nuestra comunidad. \nFecha: 29 de Julio de 2023 \nHora: 7:00 pm \nLugar: Live! Casino y Hotel \nLa Gala de la Cámara de Comercio Hispana promete ser una velada extraordinaria que reunirá a destacados profesionales\, empresarios y líderes comunitarios de diversos sectores. El evento brindará una oportunidad excepcional para establecer contactos\, lo que permitirá a los participantes forjar nuevas conexiones y fortalecer las relaciones comerciales existentes dentro de la comunidad empresarial hispana. \n¡Adquiere tus boletos ahora! https://www.eventbrite.com/e/mdhcc-2023-gala-carnaval-in-july-tickets-630416652177 \n \n  \n  \n  \n  \n  \n  \n  \n 
URL:https://mprbusinesssolutionsllc.com/event/maryland-hispanic-chamber-of-commerce-gala/
LOCATION:Live Casino and Hotel\, 7002 Arundel Mills Circle\, Hanover\, MD\, 21076\, United States
CATEGORIES:Networking
ATTACH;FMTTYPE=image/jpeg:https://mprbusinesssolutionsllc.com/wp-content/uploads/2023/07/https___cdn.evbuc_.com_images_507075309_274825285167_1_original.jpeg
END:VEVENT
BEGIN:VEVENT
DTSTART;TZID=America/New_York:20230312T120000
DTEND;TZID=America/New_York:20230312T170000
DTSTAMP:20260419T100641
CREATED:20230308T232756Z
LAST-MODIFIED:20230308T234622Z
UID:16385-1678622400-1678640400@mprbusinesssolutionsllc.com
SUMMARY:ANDA's RED Latin Jazz Brunch & Hat Fashion Show & Contest
DESCRIPTION:ANDA te INVITA: Vístete de Rojo y HERMANDAD con tu SOMBRERO favorito! Una tarde inolvidable de Live Latin jazz with “Son Horizonte\,” lechón asado\, concurso de sombreros (fantasía)\, invitados especiales\, y varias actividades sociales. ¡No te lo pierdas! \nANDA INVITES you: Dress in Red and SISTERHOOD with your favorite HAT! An unforgettable afternoon of Live Latin jazz with “Son Horizonte\,” roasted piglet\, hat fashion show & contest (fantasy)\, special guests\, and various social activities. Don’t miss it! \nGet your tickets Now! https://www.eventbrite.com/e/andas-red-latin-jazz-brunch-hat-fashion-show-contest-tickets-552013295627 \n 
URL:https://mprbusinesssolutionsllc.com/event/andas-red-latin-jazz-brunch-hat-fashion-show-contest/
LOCATION:Silver Spring Civic Building at Veterans Plaza\, 1 Veterans Place Silver Spring\, Silver Spring\, MD\, 20910\, United States
CATEGORIES:Networking
END:VEVENT
BEGIN:VEVENT
DTSTART;TZID=America/New_York:20230309T173000
DTEND;TZID=America/New_York:20230309T193000
DTSTAMP:20260419T100641
CREATED:20230308T230143Z
LAST-MODIFIED:20230308T230516Z
UID:16377-1678383000-1678390200@mprbusinesssolutionsllc.com
SUMMARY:Women of ALPFA Baltimore
DESCRIPTION:  \nRegister today for the upcoming Women of ALPFA Baltimore event! \nhttps://lnkd.in/esGiBJZd \n 
URL:https://mprbusinesssolutionsllc.com/event/women-of-alpfa-baltimore/
LOCATION:Enoch Pratt Free Library\, 400 Cathedral Street\, Baltimore\, MD\, 21201\, United States
CATEGORIES:Conference,Networking
END:VEVENT
BEGIN:VEVENT
DTSTART;TZID=America/New_York:20230307T080000
DTEND;TZID=America/New_York:20230404T170000
DTSTAMP:20260419T100641
CREATED:20230308T000345Z
LAST-MODIFIED:20230309T014334Z
UID:16392-1678176000-1680627600@mprbusinesssolutionsllc.com
SUMMARY:Academia de Emprendedores
DESCRIPTION:Academia de Emprendedores\n¿Desea comenzar su propia pequeña empresa? ¿Comenzó un negocio\, pero no está seguro sobre cómo llevarlo al siguiente nivel? ¿Desea ser su propio jefe? Únase a la Academia de emprendedores de la Biblioteca Pública del condado de Baltimore\, una serie de cinco clases gratis que ayudan a convertir su idea de negocio en una realidad. Las clases son virtuales\, se dictan completamente en español y están abiertas a todo público. Entre los temas se incluyen estrategia de negocios\, investigación de mercado\, finanzas y mantenimiento de registros\, marketing y desarrollo de un plan de negocios. ¡Regístrese ahora\, los cupos son limitados! ¿No tiene una computadora o WiFi? ¡Pida prestada una computadora portátil o un punto de acceso gratis en cualquiera de nuestras sucursales con su tarjeta de la biblioteca! La inscripción cierra una hora antes del inicio del programa. Al inscribirse\, es necesario proporcionar una dirección de correo electrónico válida a la que se enviará el enlace de Zoom al programa 30 minutos antes del horario de inicio.
URL:https://mprbusinesssolutionsllc.com/event/academia-de-emprendedores/
LOCATION:Baltimore County Public Library\, Baltimore\, MD\, United States
CATEGORIES:Training,Workshop
END:VEVENT
BEGIN:VEVENT
DTSTART;TZID=America/New_York:20220923T080000
DTEND;TZID=America/New_York:20220923T200000
DTSTAMP:20260419T100641
CREATED:20220811T010832Z
LAST-MODIFIED:20221012T011216Z
UID:16369-1663920000-1663963200@mprbusinesssolutionsllc.com
SUMMARY:17th MARYLAND HISPANIC BUSINESS CONFERENCE (MDHBC)
DESCRIPTION:
URL:https://mprbusinesssolutionsllc.com/event/17th-maryland-hispanic-business-conference-mdhbc/
LOCATION:College Park Marriott Hotel & Conference Center – College Park\, 3501 University Blvd E\, College Park\, MD\, United States
CATEGORIES:Conference,Networking
END:VEVENT
BEGIN:VEVENT
DTSTART;TZID=America/New_York:20220425T180000
DTEND;TZID=America/New_York:20220425T200000
DTSTAMP:20260419T100641
CREATED:20220415T144705Z
LAST-MODIFIED:20220421T194810Z
UID:16352-1650909600-1650916800@mprbusinesssolutionsllc.com
SUMMARY:Join Us - Business HUB! Meet & Greet our TEAM!
DESCRIPTION:Business HUB!\nMeet & Greet our TEAM! Learn about all the services we offer to our community. \n  \n\n\n¡Acompáñanos en nuestro Centro de Negocios!\n¡Conoce y comparte con nuestro EQUIPO! Conozca los servicios que ofrecemos a nuestra comunidad. \n\n\n  \nRegister NOW!\n\n 
URL:https://mprbusinesssolutionsllc.com/event/join-us-business-hub/
LOCATION:Office\, 19636 Club House Road - Suite #115\, Montgomery Village\, Gaithersburg\, MD\, 20886\, United States
CATEGORIES:Networking
ATTACH;FMTTYPE=image/png:https://mprbusinesssolutionsllc.com/wp-content/uploads/2022/04/Welcome-MPR-042022-V004.png
ORGANIZER;CN="Maria Pilar Rodriguez":MAILTO:mariapilar@mprbusinesssolutions.com
END:VEVENT
END:VCALENDAR